Workbook
Name MT_FORFAITR_INI_2024: 'Bonus Territoire CTG'!$B$10
Name MT_FORFAITR_REVALO2025: 'Bonus Territoire CTG'!$B$22
Name MT_FORFAITR_REVALO2026: 'Bonus Territoire CTG'!$B$38

Sheet A COMPLETER
A1: DONNEES CONTRAT ET DECLARATION
A2: (maj 16/10/2026 avec barèmes du 08/10/2026) | D2: Barèmes 2026
A3: Compléter TOUTES les cellules vertes
D4: Avec couches et repas | G4: Sans couches et repas
A5: Nombre de places agréées (Retenir le nb maximum de places de l'année en cas d'augmentation ou diminution de l'agrément) | D5: Constante | E5: 24.129 | G5: Constante | H5: 23.799
A6: Amplitude horaire | D6: Pente | E6: -12.838 | G6: Pente | H6: -12.838
A7: Nombre de jours d'ouverture
A8: Capacité d'accueil théorique | B8: =IF(OR(B5="",B6="",B7=""),"",+B5*B6*B7) | D8: Taux de facturation | F8: Prix plafond | G8: Taux de facturation | I8: Prix plafond
A9: Si agrément modulé: compléter Capacité d'accueil modulée | D9: (A) Inférieur ou égal à | E9: 1.07 | F9: 10.392 | G9: (A1) Inférieur ou égal à | H9: 1.07 | I9: 10.062
A10: Capacité d'accueil max prise en compte | B10: =IF(B8="","",IF(OR(B9="",B9=0),B8,IF(B9<B8,B9,B8))) | D10: (B) Entre | E10: 107 et 120 % | F10: Constante + (Pente x Taux de facturation) | G10: (B1) Entre | H10: 107 et 120 % | I10: Constante + (Pente x Taux de facturation)
D11: (C) Supérieur ou égal à | E11: 1.2 | F11: 8.723 | G11: (C1) Supérieur ou égal à | H11: 1.2 | I11: 8.393
A12: Nombre d'enfants de 0 à 6 ans inscrits dans la structure (du 01/01 au 31/12) | D12: Tranche de taux de facturation du dossier | E12: {=_xlfn.IFS( (AND(B33="Oui",B21<=E9)),"A", (AND(B33="Oui",B21<E11)),"B", (AND(B33="Oui",B21>=E11)),"C", (AND(B33="Non",B21<=E9)),"A1", (AND(B33="Non",B21<E11)),"B1", (AND(B33="Non",B21>=E11)),"C1")} -> C1
A13: Nombre d'enfants inscrits bénéficiaires de l'AEEH ou dont le handicap est en cours de détection | D13: Si B = Constante + (Pente x Taux de facturation) = | E13: =ROUND(E5+(E6*B21),2) -> #VALUE! | H13: =ROUND(H5+(H6*B21),2) -> #VALUE!
A14: Pourcentage d'enfants porteurs de handicap, reconnu ou en cours de détection | B14: =IF(B12="","",B13/B12)
A16: Journées pédagogiques déclarées
A17: Journées pédagogiques déclarées prises en compte (maximum 3) | B17: =IF(B16="","",IF(B16<=3,B16,3))
A19: Heures facturées totales (RG + hors RG)
A20: Heures réalisées totales (RG + hors RG)
A21: Taux facturation | B21: =IF(OR(B19="",B20=""),"",B19/B20)
A22: =IF(B21<100%,"anomalie heures facturées< heures réalisées","")
A23: Pourcentage de régime général conventionné
A24: Coût de fonctionnement (total des charges SANS LES COMPTES 86 de contributions volontaires)
A25: Compte 860 Secours en nature (alimentaire, vestimentaire)
A26: Compte 861 Mise à disposition gratuite de biens (locaux, matériels, fluides…)
A27: Compte 86AUT Prestation en nature
A28: Total des charges pris en compte pour calcul du droit | B28: =IF(B24="","",IF(OR(B39=F38,B39=F40),(B24+B25+B26),B24))
A29: Prix de revient réel | B29: =IF(OR(B20="",B24=""),"", IF(OR(B39=F38,B39=F40),(B24+B25+B26)/B20,B24/B20 ))
A31: Fourniture des couches | E31: Oui | F31: =IF(B31="Oui",1,0) -> 0
A32: Fourniture des repas (lait infantile facultatif) | E32: Non | F32: =IF(B32="Oui",1,0) -> 0
A33: Si fourniture des deux services, alors bonification taux PSU | B33: =+F33 -> Non | E33: Couche et repas bilan | F33: =IF((F31+F32)=2,"Oui","Non") -> Non
A34: Prix de revient plafond | B34: {=ROUND(_xlfn.SWITCH(E12, "A",F9, "B",E13, "C",F11, "A1",I9, "B1",H13, "C1",I11),3)} -> 8.393
A36: Participation Familiale déductible (70641) * (dont l'ensemble des majorations : hors communes, hors régime, transfrontaliers, frais d'adhésion ou de cotisations ou frais de dossiers au-delà de 50€ par famille/an, cautions encaissées ou non, frais de gestion bancaire, pénalité de retard, droit de réservation)
A38: Êtes-vous éligible au bonus attractivité | E38: Nature juridique | F38: Association
A39: Nature juridique du gestionnaire | F39: Entreprise privée
F40: Mutuelle
F41: CAF
A42: BONUS TERRITOIRE CTG | F42: Commune
A43: Données indiquées dans la convention ou l'avenant | F43: EPCI
A44: Quelle est l'année de début de votre convention actuelle | F44: CCAS
A45: Nombre de places soutenues par la collectivité
...

Sheet RECAP DROITS
A1: RECAPITULATIF DROITS PSU ET BONUS 2026
A3: PRESTATION DE SERVICE UNIQUE | B3: =ROUND(PSU!B13,2) -> #VALUE!
A5: HEURES DE PREPARATION (8 heures par enfants inscrits) | B5: =ROUND('Heures de préparation'!B20,2) -> 0
A7: BONUS INCLUSION HANDICAP | B7: =ROUND('Bonus Inclusion Handicap'!C24,2) -> #VALUE! | D7: à inscrire dans le compte 70623
D8: =SUM(B3+B5+B7+B9+B11+B13) -> #VALUE!
A9: BONUS MIXITE SOCIALE | B9: =ROUND('Bonus Mixité Sociale'!D19,2) -> #DIV/0!
A11: JOURNEES PEDAGOGIQUES (maximum 3) | B11: =ROUND('Journées Pédagogiques'!B22,2) -> #VALUE!
A13: BONUS ATTRACTIVITE | B13: =ROUND('Bonus Attractivité'!B12,2) -> 0
D14: à inscrire dans le compte 70626
A15: BONUS TERRITOIRE CTG 2026 | B15: =ROUND('Bonus Territoire CTG'!B48,2) -> #VALUE!
A17: MONTANT TOTAL | B17: =B3+B5+B11+B9+B7+B13+B15 -> #VALUE!
A18: Ce simulateur a été conçu uniquement pour vous aider à estimer vos droits. Le montant estimé n'est pas opposable à la CAF. Seul le montant calculé par le logiciel fera foi

Sheet PSU
A1: CALCUL du DROIT PSU
A3: Nombre d'actes ouvrant droit (dans la limite de la capacité d'accueil maximum) | B3: =+IF(OR('A COMPLETER'!B10="",'A COMPLETER'!B19=""),"",IF('A COMPLETER'!B19>'A COMPLETER'!B10,'A COMPLETER'!B10,'A COMPLETER'!B19))
A4: X
A5: Prix de revient retenu pour la PSU | B5: =IF('A COMPLETER'!B34<='A COMPLETER'!B29,'A COMPLETER'!B34,'A COMPLETER'!B29) -> 8.393
A6: X
A7: Taux PSU | B7: 0.66
A8: -
A9: Participation Familiale déductible (ponderée en cas d'heures facturées > capacité d'accueil maximum) | B9: =+(IF(OR('A COMPLETER'!B36="",B3=""),"",IF(B3='A COMPLETER'!B19,'A COMPLETER'!B36,IF(B3='A COMPLETER'!B10,ROUND((('A COMPLETER'!B10/'A COMPLETER'!B19)*'A COMPLETER'!B36),0)))))
A10: X
A11: Taux de regime général | B11: ='A COMPLETER'!B23 -> 0
A12: =
A13: MONTANT PRESTATION DE SERVICE UNIQUE | B13: =IF(OR(B3="",B5="",B7="",B9=""),"",(B3*B5*B7-B9)*B11)

Sheet Heures de préparation
A1: CALCUL du DROIT HEURES DE PREPARATION
B10: 8
B11: X
A12: Nb d'enfants inscrits | B12: ='A COMPLETER'!B12 -> 0
B13: X
A14: Prix de revient retenu pour la PSU | B14: =IF('A COMPLETER'!B34<='A COMPLETER'!B29,'A COMPLETER'!B34,'A COMPLETER'!B29) -> 8.393
B15: X
A16: Taux de la PS | B16: 0.66
B17: X
A18: Taux de Régime Général conventionné | B18: ='A COMPLETER'!B23 -> 0
B19: =
A20: MONTANT HEURES DE PREPARATION | B20: =B10*B12*B14*B16*B18 -> 0

Sheet Bonus Inclusion Handicap
A1: Barème 2026
B2: % enfants porteurs de handicap, reconnu ou en cours de détection | C2: Prix de revient plafond par place | D2: Taux de financement des places concernées
A3: >= | B3: 0.075 | C3: 22898 | D3: 0.45
B4: >= 5% et < 7,5% | C4: 9159 € + (% enfants AEEH x 183177 €) | D4: 0.3
A5: < | B5: 0.05 | C5: 18318 | D5: 0.15
B6: Montant plafond de bonus par place | C6: 1488
B9: % d'enfants porteurs de handicap | C9: ='A COMPLETER'!B14
B11: Taux de financement | C11: {=_xlfn.IFS(C9<B5,D5,AND(C9>=B5,C9<B3),D4,C9>=B3,D3)} -> 0.45
B13: Coût par place et par an de l'EAJE | C13: ='A COMPLETER'!B28/'A COMPLETER'!B5 -> #VALUE!
B15: Coût par place plafonné | C15: {=_xlfn.IFS( AND(C11=D5,C13<=C5),C13, AND(C11=D5,C13>C5),C5, AND(C11=D4,C13<=9159+(C9*183177)),C13, AND(C11=D4,C13>9159+(C9*183177)),9159+(C9*183177), AND(C11=D3,C13<=C3),C13, AND(C11=D3,C13>C3),C3)} -> #VALUE!
A18: CALCUL du DROIT BONUS INCLUSION HANDICAP
B20: Montant bonus par place plafonné | C20: =IF((C9*C11*C15)>C6,C6,C9*C11*C15) -> #VALUE!
C21: X
B22: Nb de places agréées PMI | C22: ='A COMPLETER'!B5 -> 0
C23: =
B24: TOTAL | C24: =C20*C22 -> #VALUE!

Sheet Bonus Mixité Sociale
A1: Barèmes 2026
D2: Seuil de Participations Familiales Moyennes / Heure Facturée
A3: Tranche 1 | B3: 2100 | C3: /place | D3: <= | E3: 0.93 | F3: /h facturée
A4: Tranche 2 | B4: 800 | C4: /place | D4: <= | E4: 1.23 | F4: /h facturée
A5: Tranche 3 | B5: 300 | C5: /place | D5: <= | E5: 1.56 | F5: /h facturée
A7: CALCUL du BONUS MIXITE SOCIALE
A9: Montant total des participations familiales déductibles (compte 70641) | D9: ='A COMPLETER'!B36 -> 0
D10: /
A11: Nb total heures facturées | D11: ='A COMPLETER'!B19 -> 0
D12: =
A13: Tarif horaire moyen | D13: =D9/D11 -> #DIV/0!
A15: Forfait selon tarif horaire moyen | D15: {=_xlfn.IFS( D13<=E3,B3, D13<=E4,B4, D13<=E5,B5, D13>E5,0)} -> #DIV/0!
D16: X
A17: Nb de places agréées PMI | D17: ='A COMPLETER'!B5 -> 0
D18: =
A19: TOTAL | D19: =D15*D17 -> #DIV/0!

Sheet Journées Pédagogiques
A8: CALCUL du DROIT JOURNEES PEDAGOGIQUES
A10: Nb de journées pédagogiques (plafonnées à 3 maximum) | B10: ='A COMPLETER'!B17
B11: X
A12: 1 journée = 10h | B12: 10
B13: X
A14: Nb places agréées PMI | B14: ='A COMPLETER'!B5 -> 0
B15: X
A16: Prix de revient retenu pour la PSU | B16: =IF('A COMPLETER'!B34<='A COMPLETER'!B29,'A COMPLETER'!B34,'A COMPLETER'!B29) -> 8.393
B17: X
A18: Taux de la PS | B18: 0.66
B19: X
A20: Taux de Régime Général conventionné | B20: ='A COMPLETER'!B23 -> 0
B21: =
A22: TOTAL | B22: =B10*B12*B14*B16*B18*B20 -> #VALUE!

Sheet Bonus Attractivité
A1: Barèmes 2026
B2: Bonus par place
A3: EAJE de droit privé | B3: 970
A4: EAJE de droit public | B4: 475
A6: CALCUL du DROIT BONUS ATTRACTIVITE
A8: nb de places agréées PMI | B8: ='A COMPLETER'!B5 -> 0
B9: X
A10: Montant forfaitaire | B10: {=IF('A COMPLETER'!B38="Oui", _xlfn.IFS( 'A COMPLETER'!B39="Association",'Bonus Attractivité'!B3, 'A COMPLETER'!B39="Entreprise privée",'Bonus Attractivité'!B3, 'A COMPLETER'!B39="Mutuelle",'Bonus Attractivité'!B3, 'A COMPLETER'!B39="CAF",'Bonus Attractivité'!B3, 'A COMPLETER'!B39="Commune",'Bonus Attractivité'!B4, 'A COMPLETER'!B39="EPCI",'Bonus Attractivité'!B4, 'A COMPLETER'!B39="CCAS",'Bonus Attractivité'!B4, 'A COMPLETER'!B39="EPA",'Bonus Attractivité'!B4, 'A COMPLETER'!B39="Etablissement hospitalier",0, 'A COMPLETER'!B39="Administration de l'Etat",'Bonus Attractivité'!B4),0)} -> 0
B11: =
A12: TOTAL | B12: =B8*B10 -> 0
A14: Attention, si vous n'êtes éligible qu'une partie de l'année, il faut proratiser ce montant

Sheet Bonus Territoire CTG
H1: Barème
A2: CALCUL du DROIT BONUS TERRITOIRE CTG "normal" 2024 | H2: Potentiel financier / habitant et Médiane niveau de vie | I2: Groupe | J2: Bonus plafond offre nouvelle | K2: Plancher place existante 2024 | L2: Plancher place existante 2025 | M2: Plancher place existante 2026 | N2: Plancher place existante 2027
H3: QPV ou ZRR | I3: 9 | J3: 3600 | K3: 1700 | L3: 3000 | M3: 3240 | N3: 3500
A4: Nb places existantes | B4: {=_xlfn.IFS( OR('A COMPLETER'!B45="",'A COMPLETER'!B45=0),0, 'A COMPLETER'!B62<='A COMPLETER'!B45,'A COMPLETER'!B62, 'A COMPLETER'!B62>'A COMPLETER'!B45,'A COMPLETER'!B45)} -> 0 | D4: Nb places nouvelles | E4: {=_xlfn.IFS(OR('A COMPLETER'!B62="",'A COMPLETER'!B62=0),0, OR('A COMPLETER'!B45="",'A COMPLETER'!B45=0),'A COMPLETER'!B62, 'A COMPLETER'!B62<='A COMPLETER'!B45,0, 'A COMPLETER'!B62>'A COMPLETER'!B45,'A COMPLETER'!B62-'A COMPLETER'!B45)} -> 0 | H4: PF <=700€ M<=19300 € | I4: 8 | J4: 3300 | K4: 1400 | L4: 2000 | M4: 2160 | N4: 2330
B5: X | E5: X | H5: PF <=700€ M>19300 € | I5: 7 | J5: 3000 | K5: 1150 | L5: 1600 | M5: 1730 | N5: 1870
A6: Montant forfaitaire | B6: ='A COMPLETER'!B46 -> 0 | D6: Montant offre nouvelle | E6: {=_xlfn.SWITCH('A COMPLETER'!B47, I11,J11, I10,J10, I9,J9, I8,J8, I7,J7, I6,J6, I5,J5, I4,J4, I3,J3)} -> #N/A | H6: PF <=900€ M<=19600 € | I6: 6 | J6: 2900 | K6: 1100 | L6: 1450 | M6: 1570 | N6: 1700
B7: = | E7: = | H7: PF <=900€ M>19600 € | I7: 5 | J7: 2800 | K7: 950 | L7: 1200 | M7: 1300 | N7: 1410
A8: Total BT offre existante | B8: =B4*B6 -> 0 | C8: + | D8: Total BT offre nouvelle | E8: =E4*E6 -> #N/A | H8: PF <=1200€ M<=20300 € | I8: 4 | J8: 2750 | K8: 900 | L8: 1100 | M8: 1190 | N8: 1290
H9: PF <=1200€ M>20300 € | I9: 3 | J9: 2700 | K9: 800 | L9: 950 | M9: 1030 | N9: 1110
A10: TOTAL BONUS TERRITOIRE CTG (non plafonné) | B10: =B8+E8 -> #N/A | H10: PF >1200€ M<=21300 € | I10: 2 | J10: 2650 | K10: 750 | L10: 850 | M10: 920 | N10: 990
H11: PF >1200€ M>21300 € | I11: 1 | J11: 2600 | K11: 400 | L11: 500 | M11: 540 | N11: 580
A12: 90 % du total des charges | B12: ='A COMPLETER'!B24*0.9 -> 0
H13: REVALORISATION BT | I13: 2025 | J13: 2026 | K13: 2027
A14: Somme: PF + PSU + heures de préparation + bonus inclusion handicap + bonus mixité sociale + bonus attractivité + journées pédagogiques + BT CTG | B14: ='A COMPLETER'!B36+PSU!B13+'Heures de préparation'!B20+'Bonus Inclusion Handicap'!C24+'Bonus Mixité Sociale'!D19+'Bonus Attractivité'!B12+'Journées Pédagogiques'!B22+'Bonus Territoire CTG'!B10 -> #VALUE! | H14: Indice | I14: 1.1 | J14: 1.081 | K14: 1.081
A16: TOTAL BONUS TERRITOIRE CTG plafonné | B16: =IF(B14<B12,B10,IF((B12-'A COMPLETER'!B36-'RECAP DROITS'!B3-'RECAP DROITS'!B5-'RECAP DROITS'!B11-'RECAP DROITS'!B9-'RECAP DROITS'!B7-'RECAP DROITS'!B13)>0,B12-'A COMPLETER'!B36-'RECAP DROITS'!B3-'RECAP DROITS'!B5-'RECAP DROITS'!B11-'RECAP DROITS'!B9-'RECAP DROITS'!B7-'RECAP DROITS'!B13,0)) -> #VALUE!
A17: =IF(B16<B10,"Ecrêtement de","") -> #VALUE! | B17: =IF(B16<B10,B10-B16,"") -> #VALUE!
A19: CALCUL du DROIT BONUS TERRITOIRE CTG 2025 revalorisé
A20: Nb places existantes | B20: {=_xlfn.IFS( OR('A COMPLETER'!B45="",'A COMPLETER'!B45=0),0, 'A COMPLETER'!B62<='A COMPLETER'!B45,'A COMPLETER'!B62, 'A COMPLETER'!B62>'A COMPLETER'!B45,'A COMPLETER'!B45)} -> 0 | D20: Nb places nouvelles | E20: {=_xlfn.IFS(OR('A COMPLETER'!B62="",'A COMPLETER'!B62=0),0, OR('A COMPLETER'!B45="",'A COMPLETER'!B45=0),'A COMPLETER'!B62, 'A COMPLETER'!B62<='A COMPLETER'!B45,0, 'A COMPLETER'!B62>'A COMPLETER'!B45,ROUND('A COMPLETER'!B62-'A COMPLETER'!B45,0))} -> 0
B21: x | E21: X
A22: Montant forfaitaire BT revalorisé 2025 | B22: {=IF('A COMPLETER'!B44=2025,'A COMPLETER'!B46, ROUND( _xlfn.IFS( AND('A COMPLETER'!B47='Bonus Territoire CTG'!I11,'Bonus Territoire CTG'!B6>='Bonus Territoire CTG'!J11),'Bonus Territoire CTG'!B6, AND('A COMPLETER'!B47='Bonus Territoire CTG'!I10,'Bonus Territoire CTG'!B6>='Bonus Territoire CTG'!J10),'Bonus Territoire CTG'!B6, AND('A COMPLETER'!B47='Bonus Territoire CTG'!I9,'Bonus Territoire CTG'!B6>='Bonus Territoire CTG'!J9),'Bonus Territoire CTG'!B6, AND('A COMPLETER'!B47='Bonus Territoire CTG'!I8,'Bonus Territoire CTG'!B6>='Bonus Territoire CTG'!J8),'Bonus Territoire CTG'!B6, AND('A COMPLETER'!B47='Bonus Territoire CTG'!I7,'Bonus Territoire CTG'!B6>='Bonus Territoire CTG'!J7),'Bonus Territoire CTG'!B6, AND('A COMPLETER'!B47='Bonus Territoire CTG'!I6,'Bonus Territoire CTG'!B6>='Bonus Territoire CTG'!J6),'Bonus Territoire CTG'!B6, AND('A COMPLETER'!B47='Bonus Territoire CTG'!I5,'Bonus Territoire CTG'!B6>='Bonus Territoire CTG'!J5),'Bonus Territoire CTG'!B6, AND('A COMPLETER'!B47='Bonus Territoire CTG'!I4,'Bonus Territoire CTG'!B6>='Bonus Territoire CTG'!J4),'Bonus Territoire CTG'!B6, AND('A COMPLETER'!B47='Bonus Territoire CTG'!I3,'Bonus Territoire CTG'!B6>='Bonus Territoire CTG'!J3),'Bonus Territoire CTG'!B6, AND('A COMPLETER'!B47='Bonus Territoire CTG'!I11,'Bonus Territoire CTG'!B6*'Bonus Territoire CTG'!I14>'Bonus Territoire CTG'!J11),'Bonus Territoire CTG'!J11, AND('A COMPLETER'!B47='Bonus Territoire CTG'!I10,'Bonus Territoire CTG'!B6*'Bonus Territoire CTG'!I14>'Bonus Territoire CTG'!J10),'Bonus Territoire CTG'!J10, AND('A COMPLETER'!B47='Bonus Territoire CTG'!I9,'Bonus Territoire CTG'!B6*'Bonus Territoire CTG'!I14>'Bonus Territoire CTG'!J9),'Bonus Territoire CTG'!J9, AND('A COMPLETER'!B47='Bonus Territoire CTG'!I8,'Bonus Territoire CTG'!B6*'Bonus Territoire CTG'!I14>'Bonus Territoire CTG'!J8),'Bonus Territoire CTG'!J8, AND('A COMPLETER'!B47='Bonus Territoire CTG'!I7,'Bonus Territoire CTG'!B6*'Bonus Territoire CTG'!I14>'Bonus Territoire CTG'!J7),'Bonus Territoire CTG'!J7, AND('A COMPLETER'!B47='Bonus Territoire CTG'!I6,'Bonus Territoire CTG'!B6*'Bonus Territoire CTG'!I14>'Bonus Territoire CTG'!J6),'Bonus Territoire CTG'!J6, AND('A COMPLETER'!B47='Bonus Territoire CTG'!I5,'Bonus Territoire CTG'!B6*'Bonus Territoire CTG'!I14>'Bonus Territoire CTG'!J5),'Bonus Territoire CTG'!J5, AND('A COMPLETER'!B47='Bonus Territoire CTG'!I4,'Bonus Territoire CTG'!B6*'Bonus Territoire CTG'!I14>'Bonus Territoire CTG'!J4),'Bonus Territoire CTG'!J4, AND('A COMPLETER'!B47='Bonus Territoire CTG'!I3,'Bonus Territoire CTG'!B6*'Bonus Territoire CTG'!I14>'Bonus Territoire CTG'!J3),'Bonus Territoire CTG'!J3, AND('A COMPLETER'!B47='Bonus Territoire CTG'!I11,'Bonus Territoire CTG'!L11<='Bonus Territoire CTG'!B6*'Bonus Territoire CTG'!I14,'Bonus Territoire CTG'!B6<='Bonus Territoire CTG'!J11),'Bonus Territoire CTG'!B6*'Bonus Territoire CTG'!I14, AND('A COMPLETER'!B47='Bonus Territoire CTG'!I10,'Bonus Territoire CTG'!L10<='Bonus Territoire CTG'!B6*'Bonus Territoire CTG'!I14,'Bonus Territoire CTG'!B6<='Bonus Territoire CTG'!J10),'Bonus Territoire CTG'!B6*'Bonus Territoire CTG'!I14, AND('A COMPLETER'!B47='Bonus Territoire CTG'!I9,'Bonus Territoire CTG'!L9<='Bonus Territoire CTG'!B6*'Bonus Territoire CTG'!I14,'Bonus Territoire CTG'!B6<='Bonus Territoire CTG'!J9),'Bonus Territoire CTG'!B6*'Bonus Territoire CTG'!I14, AND('A COMPLETER'!B47='Bonus Territoire CTG'!I8,'Bonus Territoire CTG'!L8<='Bonus Territoire CTG'!B6*'Bonus Territoire CTG'!I14,'Bonus Territoire CTG'!B6<='Bonus Territoire CTG'!J8),'Bonus Territoire CTG'!B6*'Bonus Territoire CTG'!I14, AND('A COMPLETER'!B47='Bonus Territoire CTG'!I7,'Bonus Territoire CTG'!L7<='Bonus Territoire CTG'!B6*'Bonus Territoire CTG'!I14,'Bonus Territoire CTG'!B6<='Bonus Territoire CTG'!J7),'Bonus Territoire CTG'!B6*'Bonus Territoire CTG'!I14, AND('A COMPLETER'!B47='Bonus Territoire CTG'!I6,'Bonus Territoire CTG'!L6<='Bonus Territoire CTG'!B6*'Bonus Territoire CTG'!I14,'Bonus Territoire CTG'!B6<='Bonus Territoire CTG'!J6),'Bonus Territoire CTG'!B6*'Bonus Territoire CTG'!I14, AND('A COMPLETER'!B47='Bonus Territoire CTG'!I5,'Bonus Territoire CTG'!L5<='Bonus Territoire CTG'!B6*'Bonus Territoire CTG'!I14,'Bonus Territoire CTG'!B6<='Bonus Territoire CTG'!J5),'Bonus Territoire CTG'!B6*'Bonus Territoire CTG'!I14, AND('A COMPLETER'!B47='Bonus Territoire CTG'!I4,'Bonus Territoire CTG'!L4<='Bonus Territoire CTG'!B6*'Bonus Territoire CTG'!I14,'Bonus Territoire CTG'!B6<='Bonus Territoire CTG'!J4),'Bonus Territoire CTG'!B6*'Bonus Territoire CTG'!I14, AND('A COMPLETER'!B47='Bonus Territoire CTG'!I3,'Bonus Territoire CTG'!L3<='Bonus Territoire CTG'!B6*'Bonus Territoire CTG'!I14,'Bonus Territoire CTG'!B6<='Bonus Territoire CTG'!J3),'Bonus Territoire CTG'!B6*'Bonus Territoire CTG'!I14, AND('A COMPLETER'!B47='Bonus Territoire CTG'!I11,'Bonus Territoire CTG'!B6*'Bonus Territoire CTG'!I14<'Bonus Territoire CTG'!L11),'Bonus Territoire CTG'!L11, AND('A COMPLETER'!B47='Bonus Territoire CTG'!I10,'Bonus Territoire CTG'!B6*'Bonus Territoire CTG'!I14<'Bonus Territoire CTG'!L10),'Bonus Territoire CTG'!L10, AND('A COMPLETER'!B47='Bonus Territoire CTG'!I9,'Bonus Territoire CTG'!B6*'Bonus Territoire CTG'!I14<'Bonus Territoire CTG'!L9),'Bonus Territoire CTG'!L9, AND('A COMPLETER'!B47='Bonus Territoire CTG'!I8,'Bonus Territoire CTG'!B6*'Bonus Territoire CTG'!I14<'Bonus Territoire CTG'!L8),'Bonus Territoire CTG'!L8, AND('A COMPLETER'!B47='Bonus Territoire CTG'!I7,'Bonus Territoire CTG'!B6*'Bonus Territoire CTG'!I14<'Bonus Territoire CTG'!L7),'Bonus Territoire CTG'!L7, AND('A COMPLETER'!B47='Bonus Territoire CTG'!I6,'Bonus Territoire CTG'!B6*'Bonus Territoire CTG'!I14<'Bonus Territoire CTG'!L6),'Bonus Territoire CTG'!L6, AND('A COMPLETER'!B47='Bonus Territoire CTG'!I5,'Bonus Territoire CTG'!B6*'Bonus Territoire CTG'!I14<'Bonus Territoire CTG'!L5),'Bonus Territoire CTG'!L5, AND('A COMPLETER'!B47='Bonus Territoire CTG'!I4,'Bonus Territoire CTG'!B6*'Bonus Territoire CTG'!I14<'Bonus Territoire CTG'!L4),'Bonus Territoire CTG'!L4, AND('A COMPLETER'!B47='Bonus Territoire CTG'!I3,'Bonus Territoire CTG'!B6*'Bonus Territoire CTG'!I14<'Bonus Territoire CTG'!L3),'Bonus Territoire CTG'!L3),2))} -> #N/A | D22: Montant offre nouvelle | E22: {=_xlfn.SWITCH('A COMPLETER'!B47, I11,J11, I10,J10, I9,J9, I8,J8, I7,J7, I6,J6, I5,J5, I4,J4, I3,J3)} -> #N/A
B23: = | E23: =
A24: Total BT offre existante | B24: =B20*B22 -> #N/A | D24: Total BT offre nouvelle | E24: =E20*E22 -> #N/A
A26: TOTAL BONUS TERRITOIRE CTG (non plafonné) | B26: =B24+E24 -> #N/A
A28: 90 % du total des charges | B28: ='A COMPLETER'!B24*0.9 -> 0
A30: Somme: PF + PSU + heures de préparation + bonus inclusion handicap + bonus mixité sociale + bonus attractivité + journées pédagogiques + BT CTG | B30: ='A COMPLETER'!B36+PSU!B13+'Heures de préparation'!B20+'Bonus Inclusion Handicap'!C24+'Bonus Mixité Sociale'!D19+'Bonus Attractivité'!B12+'Journées Pédagogiques'!B22+'Bonus Territoire CTG'!B26 -> #VALUE!
A32: TOTAL BONUS TERRITOIRE CTG plafonné | B32: =IF(B30<B28,B26,IF((B28-'A COMPLETER'!B36-'RECAP DROITS'!B3-'RECAP DROITS'!B5-'RECAP DROITS'!B11-'RECAP DROITS'!B9-'RECAP DROITS'!B7-'RECAP DROITS'!B13)>0,B28-'A COMPLETER'!B36-'RECAP DROITS'!B3-'RECAP DROITS'!B5-'RECAP DROITS'!B11-'RECAP DROITS'!B9-'RECAP DROITS'!B7-'RECAP DROITS'!B13,0)) -> #VALUE!
A33: =IF(B32<B26,"Attention écrêtement de","") -> #VALUE! | B33: =IF(B32<B26,B26-B32,"") -> #VALUE!
A35: CALCUL du DROIT BONUS TERRITOIRE CTG 2026
A36: Nb places existantes | B36: {=_xlfn.IFS( OR('A COMPLETER'!B45="",'A COMPLETER'!B45=0),0, 'A COMPLETER'!B62<='A COMPLETER'!B45,'A COMPLETER'!B62, 'A COMPLETER'!B62>'A COMPLETER'!B45,'A COMPLETER'!B45)} -> 0 | D36: Nb places nouvelles | E36: {=_xlfn.IFS(OR('A COMPLETER'!B62="",'A COMPLETER'!B62=0),0, OR('A COMPLETER'!B45="",'A COMPLETER'!B45=0),'A COMPLETER'!B62, 'A COMPLETER'!B62<='A COMPLETER'!B45,0, 'A COMPLETER'!B62>'A COMPLETER'!B45,ROUND('A COMPLETER'!B62-'A COMPLETER'!B45,0))} -> 0
B37: x | E37: X
A38: Montant forfaitaire BT 2026 | B38: {=IF('A COMPLETER'!B44=2026,'A COMPLETER'!B46, ROUND( _xlfn.IFS( AND('A COMPLETER'!B47='Bonus Territoire CTG'!I11,'Bonus Territoire CTG'!B22>='Bonus Territoire CTG'!J11),'Bonus Territoire CTG'!B22, AND('A COMPLETER'!B47='Bonus Territoire CTG'!I10,'Bonus Territoire CTG'!B22>='Bonus Territoire CTG'!J10),'Bonus Territoire CTG'!B22, AND('A COMPLETER'!B47='Bonus Territoire CTG'!I9,'Bonus Territoire CTG'!B22>='Bonus Territoire CTG'!J9),'Bonus Territoire CTG'!B22, AND('A COMPLETER'!B47='Bonus Territoire CTG'!I8,'Bonus Territoire CTG'!B22>='Bonus Territoire CTG'!J8),'Bonus Territoire CTG'!B22, AND('A COMPLETER'!B47='Bonus Territoire CTG'!I7,'Bonus Territoire CTG'!B22>='Bonus Territoire CTG'!J7),'Bonus Territoire CTG'!B22, AND('A COMPLETER'!B47='Bonus Territoire CTG'!I6,'Bonus Territoire CTG'!B22>='Bonus Territoire CTG'!J6),'Bonus Territoire CTG'!B22, AND('A COMPLETER'!B47='Bonus Territoire CTG'!I5,'Bonus Territoire CTG'!B22>='Bonus Territoire CTG'!J5),'Bonus Territoire CTG'!B22, AND('A COMPLETER'!B47='Bonus Territoire CTG'!I4,'Bonus Territoire CTG'!B22>='Bonus Territoire CTG'!J4),'Bonus Territoire CTG'!B22, AND('A COMPLETER'!B47='Bonus Territoire CTG'!I3,'Bonus Territoire CTG'!B22>='Bonus Territoire CTG'!J3),'Bonus Territoire CTG'!B22, AND('A COMPLETER'!B47='Bonus Territoire CTG'!I11,'Bonus Territoire CTG'!B22*'Bonus Territoire CTG'!J14>'Bonus Territoire CTG'!J11),'Bonus Territoire CTG'!J11, AND('A COMPLETER'!B47='Bonus Territoire CTG'!I10,'Bonus Territoire CTG'!B22*'Bonus Territoire CTG'!J14>'Bonus Territoire CTG'!J10),'Bonus Territoire CTG'!J10, AND('A COMPLETER'!B47='Bonus Territoire CTG'!I9,'Bonus Territoire CTG'!B22*'Bonus Territoire CTG'!J14>'Bonus Territoire CTG'!J9),'Bonus Territoire CTG'!J9, AND('A COMPLETER'!B47='Bonus Territoire CTG'!I8,'Bonus Territoire CTG'!B22*'Bonus Territoire CTG'!J14>'Bonus Territoire CTG'!J8),'Bonus Territoire CTG'!J8, AND('A COMPLETER'!B47='Bonus Territoire CTG'!I7,'Bonus Territoire CTG'!B22*'Bonus Territoire CTG'!J14>'Bonus Territoire CTG'!J7),'Bonus Territoire CTG'!J7, AND('A COMPLETER'!B47='Bonus Territoire CTG'!I6,'Bonus Territoire CTG'!B22*'Bonus Territoire CTG'!J14>'Bonus Territoire CTG'!J6),'Bonus Territoire CTG'!J6, AND('A COMPLETER'!B47='Bonus Territoire CTG'!I5,'Bonus Territoire CTG'!B22*'Bonus Territoire CTG'!J14>'Bonus Territoire CTG'!J5),'Bonus Territoire CTG'!J5, AND('A COMPLETER'!B47='Bonus Territoire CTG'!I4,'Bonus Territoire CTG'!B22*'Bonus Territoire CTG'!J14>'Bonus Territoire CTG'!J4),'Bonus Territoire CTG'!J4, AND('A COMPLETER'!B47='Bonus Territoire CTG'!I3,'Bonus Territoire CTG'!B22*'Bonus Territoire CTG'!J14>'Bonus Territoire CTG'!J3),'Bonus Territoire CTG'!J3, AND('A COMPLETER'!B47='Bonus Territoire CTG'!I11,'Bonus Territoire CTG'!M11<='Bonus Territoire CTG'!B22*'Bonus Territoire CTG'!J14,'Bonus Territoire CTG'!B22<='Bonus Territoire CTG'!J11),'Bonus Territoire CTG'!B22*'Bonus Territoire CTG'!J14, AND('A COMPLETER'!B47='Bonus Territoire CTG'!I10,'Bonus Territoire CTG'!M10<='Bonus Territoire CTG'!B22*'Bonus Territoire CTG'!J14,'Bonus Territoire CTG'!B22<='Bonus Territoire CTG'!J10),'Bonus Territoire CTG'!B22*'Bonus Territoire CTG'!J14, AND('A COMPLETER'!B47='Bonus Territoire CTG'!I9,'Bonus Territoire CTG'!M9<='Bonus Territoire CTG'!B22*'Bonus Territoire CTG'!J14,'Bonus Territoire CTG'!B22<='Bonus Territoire CTG'!J9),'Bonus Territoire CTG'!B22*'Bonus Territoire CTG'!J14, AND('A COMPLETER'!B47='Bonus Territoire CTG'!I8,'Bonus Territoire CTG'!M8<='Bonus Territoire CTG'!B22*'Bonus Territoire CTG'!J14,'Bonus Territoire CTG'!B22<='Bonus Territoire CTG'!J8),'Bonus Territoire CTG'!B22*'Bonus Territoire CTG'!J14, AND('A COMPLETER'!B47='Bonus Territoire CTG'!I7,'Bonus Territoire CTG'!M7<='Bonus Territoire CTG'!B22*'Bonus Territoire CTG'!J14,'Bonus Territoire CTG'!B22<='Bonus Territoire CTG'!J7),'Bonus Territoire CTG'!B22*'Bonus Territoire CTG'!J14, AND('A COMPLETER'!B47='Bonus Territoire CTG'!I6,'Bonus Territoire CTG'!M6<='Bonus Territoire CTG'!B22*'Bonus Territoire CTG'!J14,'Bonus Territoire CTG'!B22<='Bonus Territoire CTG'!J6),'Bonus Territoire CTG'!B22*'Bonus Territoire CTG'!J14, AND('A COMPLETER'!B47='Bonus Territoire CTG'!I5,'Bonus Territoire CTG'!M5<='Bonus Territoire CTG'!B22*'Bonus Territoire CTG'!J14,'Bonus Territoire CTG'!B22<='Bonus Territoire CTG'!J5),'Bonus Territoire CTG'!B22*'Bonus Territoire CTG'!J14, AND('A COMPLETER'!B47='Bonus Territoire CTG'!I4,'Bonus Territoire CTG'!M4<='Bonus Territoire CTG'!B22*'Bonus Territoire CTG'!J14,'Bonus Territoire CTG'!B22<='Bonus Territoire CTG'!J4),'Bonus Territoire CTG'!B22*'Bonus Territoire CTG'!J14, AND('A COMPLETER'!B47='Bonus Territoire CTG'!I3,'Bonus Territoire CTG'!M3<='Bonus Territoire CTG'!B22*'Bonus Territoire CTG'!J14,'Bonus Territoire CTG'!B22<='Bonus Territoire CTG'!J3),'Bonus Territoire CTG'!B22*'Bonus Territoire CTG'!J14, AND('A COMPLETER'!B47='Bonus Territoire CTG'!I11,'Bonus Territoire CTG'!B22*'Bonus Territoire CTG'!J14<'Bonus Territoire CTG'!M11),'Bonus Territoire CTG'!M11, AND('A COMPLETER'!B47='Bonus Territoire CTG'!I10,'Bonus Territoire CTG'!B22*'Bonus Territoire CTG'!J14<'Bonus Territoire CTG'!M10),'Bonus Territoire CTG'!M10, AND('A COMPLETER'!B47='Bonus Territoire CTG'!I9,'Bonus Territoire CTG'!B22*'Bonus Territoire CTG'!J14<'Bonus Territoire CTG'!M9),'Bonus Territoire CTG'!M9, AND('A COMPLETER'!B47='Bonus Territoire CTG'!I8,'Bonus Territoire CTG'!B22*'Bonus Territoire CTG'!J14<'Bonus Territoire CTG'!M8),'Bonus Territoire CTG'!M8, AND('A COMPLETER'!B47='Bonus Territoire CTG'!I7,'Bonus Territoire CTG'!B22*'Bonus Territoire CTG'!J14<'Bonus Territoire CTG'!M7),'Bonus Territoire CTG'!M7, AND('A COMPLETER'!B47='Bonus Territoire CTG'!I6,'Bonus Territoire CTG'!B22*'Bonus Territoire CTG'!J14<'Bonus Territoire CTG'!M6),'Bonus Territoire CTG'!M6, AND('A COMPLETER'!B47='Bonus Territoire CTG'!I5,'Bonus Territoire CTG'!B22*'Bonus Territoire CTG'!J14<'Bonus Territoire CTG'!M5),'Bonus Territoire CTG'!M5, AND('A COMPLETER'!B47='Bonus Territoire CTG'!I4,'Bonus Territoire CTG'!B22*'Bonus Territoire CTG'!J14<'Bonus Territoire CTG'!M4),'Bonus Territoire CTG'!M4, AND('A COMPLETER'!B47='Bonus Territoire CTG'!I3,'Bonus Territoire CTG'!B22*'Bonus Territoire CTG'!J14<'Bonus Territoire CTG'!M3),'Bonus Territoire CTG'!M3),2))} -> #N/A | D38: Montant offre nouvelle | E38: {=_xlfn.SWITCH('A COMPLETER'!B47, I11,J11, I10,J10, I9,J9, I8,J8, I7,J7, I6,J6, I5,J5, I4,J4, I3,J3)} -> #N/A
B39: = | E39: =
A40: Total BT offre existante | B40: =B36*B38 -> #N/A | D40: Total BT offre nouvelle | E40: =E36*E38 -> #N/A
A42: TOTAL BONUS TERRITOIRE CTG (non plafonné) | B42: =B40+E40 -> #N/A
A44: 90 % du total des charges | B44: ='A COMPLETER'!B28*0.9 -> #VALUE!
A46: Somme: PF + PSU + heures de préparation + bonus inclusion handicap + bonus mixité sociale + bonus attractivité + journées pédagogiques + BT CTG | B46: ='A COMPLETER'!B36+PSU!B13+'Heures de préparation'!B20+'Bonus Inclusion Handicap'!C24+'Bonus Mixité Sociale'!D19+'Bonus Attractivité'!B12+'Journées Pédagogiques'!B22+'Bonus Territoire CTG'!B26 -> #VALUE!
A48: TOTAL BONUS TERRITOIRE CTG plafonné | B48: =IF(B46<B44,B42,IF((B44-'A COMPLETER'!B36-'RECAP DROITS'!B3-'RECAP DROITS'!B5-'RECAP DROITS'!B11-'RECAP DROITS'!B9-'RECAP DROITS'!B7-'RECAP DROITS'!B13)>0,B44-'A COMPLETER'!B36-'RECAP DROITS'!B3-'RECAP DROITS'!B5-'RECAP DROITS'!B11-'RECAP DROITS'!B9-'RECAP DROITS'!B7-'RECAP DROITS'!B13,0)) -> #VALUE!
A49: =IF(B48<B42,"Attention écrêtement de","") -> #VALUE! | B49: =IF(B48<B42,B42-B48,"") -> #VALUE!
